BEGIN:VCALENDAR
VERSION:2.0
PRODID:-//RIGHTHERE//CALENDARIZE IT V3.2//EN
BEGIN:VEVENT
UID:6769-events@www.oharacorporation.com
DTSTART:20181107T100000Z
DTEND:20181107T130000Z
DTSTAMP:20181030T230356Z
SUMMARY:Midland\, TX Orientation
DESCRIPTION:Orientation/interviews\n1505 Tradewinds Blvd.\nMidland\, TX 797
 06
END:VEVENT
END:VCALENDAR